BEGIN:VCALENDAR
VERSION:2.0
PRODID:-//Afa Falgueres - ECPv6.1.2.1//NONSGML v1.0//EN
CALSCALE:GREGORIAN
METHOD:PUBLISH
X-ORIGINAL-URL:https://www.afafalgueres.cat
X-WR-CALDESC:Esdeveniments per Afa Falgueres
REFRESH-INTERVAL;VALUE=DURATION:PT1H
X-Robots-Tag:noindex
X-PUBLISHED-TTL:PT1H
BEGIN:VTIMEZONE
TZID:UTC
BEGIN:STANDARD
TZOFFSETFROM:+0000
TZOFFSETTO:+0000
TZNAME:UTC
DTSTART:20210101T000000
END:STANDARD
END:VTIMEZONE
BEGIN:VEVENT
DTSTART;TZID=UTC:20211021T210000
DTEND;TZID=UTC:20211021T230000
DTSTAMP:20260425T160317
CREATED:20211012T084708Z
LAST-MODIFIED:20211012T084708Z
UID:3124-1634850000-1634857200@www.afafalgueres.cat
SUMMARY:Assemblea general de socis AFA Falgueres
DESCRIPTION:Assemblea general de socis AFA Falgueres\, el proper 21 d’ Octubre de 2021 a les 21h. al Gimnàs de l’ escola. \n  \nassemblea 21102021
URL:https://www.afafalgueres.cat/esdeveniment/assemblea-general-de-socis-afa-falgueres/
LOCATION:Escola Les Falgueres\, Av. Països Catalans s/n\, Celrà\, Girona\, 17460\, Espanya
END:VEVENT
END:VCALENDAR